BEGIN:VCALENDAR
VERSION:2.0
PRODID:-//Malmsbury Town Hall - ECPv5.3.2.1//NONSGML v1.0//EN
CALSCALE:GREGORIAN
METHOD:PUBLISH
X-WR-CALNAME:Malmsbury Town Hall
X-ORIGINAL-URL:http://malmsburytownhall.com.au
X-WR-CALDESC:Events for Malmsbury Town Hall
BEGIN:VTIMEZONE
TZID:UTC
BEGIN:STANDARD
TZOFFSETFROM:+0000
TZOFFSETTO:+0000
TZNAME:UTC
DTSTART:20200101T000000
END:STANDARD
END:VTIMEZONE
BEGIN:VEVENT
DTSTART;TZID=UTC:20200126T080000
DTEND;TZID=UTC:20200126T100000
DTSTAMP:20210228T111334
CREATED:20191216T212339Z
LAST-MODIFIED:20191216T212339Z
UID:1600-1580025600-1580032800@malmsburytownhall.com.au
SUMMARY:Australia Day Breakfast
DESCRIPTION:
URL:http://malmsburytownhall.com.au/event/australia-day-breakfast-3/
END:VEVENT
END:VCALENDAR