BEGIN:VCALENDAR
VERSION:2.0
PRODID:-//Malmsbury Town Hall - ECPv5.3.2.1//NONSGML v1.0//EN
CALSCALE:GREGORIAN
METHOD:PUBLISH
X-WR-CALNAME:Malmsbury Town Hall
X-ORIGINAL-URL:http://malmsburytownhall.com.au
X-WR-CALDESC:Events for Malmsbury Town Hall
BEGIN:VTIMEZONE
TZID:UTC
BEGIN:STANDARD
TZOFFSETFROM:+0000
TZOFFSETTO:+0000
TZNAME:UTC
DTSTART:20190101T000000
END:STANDARD
END:VTIMEZONE
BEGIN:VEVENT
DTSTART;TZID=UTC:20191126T190000
DTEND;TZID=UTC:20191126T200000
DTSTAMP:20210228T110612
CREATED:20191125T030014Z
LAST-MODIFIED:20191125T030014Z
UID:1595-1574794800-1574798400@malmsburytownhall.com.au
SUMMARY:CVG - End of Year Meeting
DESCRIPTION:
URL:http://malmsburytownhall.com.au/event/cvg-end-of-year-meeting/
END:VEVENT
END:VCALENDAR