BEGIN:VCALENDAR
VERSION:2.0
PRODID:-//Malmsbury Town Hall - ECPv5.3.2.1//NONSGML v1.0//EN
CALSCALE:GREGORIAN
METHOD:PUBLISH
X-WR-CALNAME:Malmsbury Town Hall
X-ORIGINAL-URL:http://malmsburytownhall.com.au
X-WR-CALDESC:Events for Malmsbury Town Hall
BEGIN:VTIMEZONE
TZID:UTC
BEGIN:STANDARD
TZOFFSETFROM:+0000
TZOFFSETTO:+0000
TZNAME:UTC
DTSTART:20190101T000000
END:STANDARD
END:VTIMEZONE
BEGIN:VEVENT
DTSTART;TZID=UTC:20190823T083000
DTEND;TZID=UTC:20190823T163000
DTSTAMP:20210228T111711
CREATED:20190630T065312Z
LAST-MODIFIED:20190630T065312Z
UID:1537-1566549000-1566577800@malmsburytownhall.com.au
SUMMARY:Dept of Justice
DESCRIPTION:
URL:http://malmsburytownhall.com.au/event/dept-of-justice-3/
END:VEVENT
END:VCALENDAR