BEGIN:VCALENDAR
VERSION:2.0
PRODID:-//Malmsbury Town Hall - ECPv5.3.2.1//NONSGML v1.0//EN
CALSCALE:GREGORIAN
METHOD:PUBLISH
X-WR-CALNAME:Malmsbury Town Hall
X-ORIGINAL-URL:http://malmsburytownhall.com.au
X-WR-CALDESC:Events for Malmsbury Town Hall
BEGIN:VTIMEZONE
TZID:UTC
BEGIN:STANDARD
TZOFFSETFROM:+0000
TZOFFSETTO:+0000
TZNAME:UTC
DTSTART:20190101T000000
END:STANDARD
END:VTIMEZONE
BEGIN:VEVENT
DTSTART;TZID=UTC:20190614T140000
DTEND;TZID=UTC:20190614T160000
DTSTAMP:20210228T110827
CREATED:20190616T055806Z
LAST-MODIFIED:20190616T055806Z
UID:1525-1560520800-1560528000@malmsburytownhall.com.au
SUMMARY:FOMBG
DESCRIPTION:
URL:http://malmsburytownhall.com.au/event/fombg-5/
END:VEVENT
END:VCALENDAR