BEGIN:VCALENDAR
VERSION:2.0
PRODID:-//Malmsbury Town Hall - ECPv5.3.2.1//NONSGML v1.0//EN
CALSCALE:GREGORIAN
METHOD:PUBLISH
X-WR-CALNAME:Malmsbury Town Hall
X-ORIGINAL-URL:http://malmsburytownhall.com.au
X-WR-CALDESC:Events for Malmsbury Town Hall
BEGIN:VTIMEZONE
TZID:UTC
BEGIN:STANDARD
TZOFFSETFROM:+0000
TZOFFSETTO:+0000
TZNAME:UTC
DTSTART:20190101T000000
END:STANDARD
END:VTIMEZONE
BEGIN:VEVENT
DTSTART;TZID=UTC:20191129T100000
DTEND;TZID=UTC:20191129T180000
DTSTAMP:20210228T110530
CREATED:20191118T013515Z
LAST-MODIFIED:20191118T013515Z
UID:1590-1575021600-1575050400@malmsburytownhall.com.au
SUMMARY:Kitchen booking
DESCRIPTION:
URL:http://malmsburytownhall.com.au/event/kitchen-booking/
END:VEVENT
END:VCALENDAR