BEGIN:VCALENDAR
VERSION:2.0
PRODID:-//Malmsbury Town Hall - ECPv6.15.20//NONSGML v1.0//EN
CALSCALE:GREGORIAN
METHOD:PUBLISH
X-WR-CALNAME:Malmsbury Town Hall
X-ORIGINAL-URL:https://malmsburytownhall.com.au
X-WR-CALDESC:Events for Malmsbury Town Hall
REFRESH-INTERVAL;VALUE=DURATION:PT1H
X-Robots-Tag:noindex
X-PUBLISHED-TTL:PT1H
BEGIN:VTIMEZONE
TZID:Australia/Melbourne
BEGIN:STANDARD
TZOFFSETFROM:+1100
TZOFFSETTO:+1000
TZNAME:AEST
DTSTART:20240406T160000
END:STANDARD
BEGIN:DAYLIGHT
TZOFFSETFROM:+1000
TZOFFSETTO:+1100
TZNAME:AEDT
DTSTART:20241005T160000
END:DAYLIGHT
BEGIN:STANDARD
TZOFFSETFROM:+1100
TZOFFSETTO:+1000
TZNAME:AEST
DTSTART:20250405T160000
END:STANDARD
BEGIN:DAYLIGHT
TZOFFSETFROM:+1000
TZOFFSETTO:+1100
TZNAME:AEDT
DTSTART:20251004T160000
END:DAYLIGHT
BEGIN:STANDARD
TZOFFSETFROM:+1100
TZOFFSETTO:+1000
TZNAME:AEST
DTSTART:20260404T160000
END:STANDARD
BEGIN:DAYLIGHT
TZOFFSETFROM:+1000
TZOFFSETTO:+1100
TZNAME:AEDT
DTSTART:20261003T160000
END:DAYLIGHT
END:VTIMEZONE
BEGIN:VEVENT
DTSTART;TZID=Australia/Melbourne:20250505T183000
DTEND;TZID=Australia/Melbourne:20250505T193000
DTSTAMP:20260426T013440
CREATED:20250502T023917Z
LAST-MODIFIED:20250502T023917Z
UID:3355-1746469800-1746473400@malmsburytownhall.com.au
SUMMARY:MPA meeting
DESCRIPTION:
URL:https://malmsburytownhall.com.au/event/mpa-meeting/
END:VEVENT
BEGIN:VEVENT
DTSTART;TZID=Australia/Melbourne:20250502T130000
DTEND;TZID=Australia/Melbourne:20250502T190000
DTSTAMP:20260426T013440
CREATED:20250204T213752Z
LAST-MODIFIED:20250204T213752Z
UID:3105-1746190800-1746212400@malmsburytownhall.com.au
SUMMARY:MRSC Small property Grazing Course
DESCRIPTION:
URL:https://malmsburytownhall.com.au/event/mrsc-small-property-grazing-course/
END:VEVENT
BEGIN:VEVENT
DTSTART;TZID=Australia/Melbourne:20250501T150000
DTEND;TZID=Australia/Melbourne:20250501T210000
DTSTAMP:20260426T013440
CREATED:20250218T010735Z
LAST-MODIFIED:20250218T010735Z
UID:3118-1746111600-1746133200@malmsburytownhall.com.au
SUMMARY:Landcare - Living with Platypus
DESCRIPTION:
URL:https://malmsburytownhall.com.au/event/landcare-living-with-platypus/
END:VEVENT
BEGIN:VEVENT
DTSTART;TZID=Australia/Melbourne:20250426T190000
DTEND;TZID=Australia/Melbourne:20250426T210000
DTSTAMP:20260426T013440
CREATED:20250408T014033Z
LAST-MODIFIED:20250408T014033Z
UID:3341-1745694000-1745701200@malmsburytownhall.com.au
SUMMARY:Community Choir
DESCRIPTION:
URL:https://malmsburytownhall.com.au/event/community-choir-4/
END:VEVENT
BEGIN:VEVENT
DTSTART;VALUE=DATE:20250426
DTEND;VALUE=DATE:20250428
DTSTAMP:20260426T013440
CREATED:20250220T044634Z
LAST-MODIFIED:20250220T044634Z
UID:3124-1745625600-1745798399@malmsburytownhall.com.au
SUMMARY:Malmsbury Fayre
DESCRIPTION:
URL:https://malmsburytownhall.com.au/event/malmsbury-fayre-8/
END:VEVENT
END:VCALENDAR