BEGIN:VCALENDAR
VERSION:2.0
PRODID:-//Malmsbury Town Hall - ECPv6.15.20//NONSGML v1.0//EN
CALSCALE:GREGORIAN
METHOD:PUBLISH
X-WR-CALNAME:Malmsbury Town Hall
X-ORIGINAL-URL:https://malmsburytownhall.com.au
X-WR-CALDESC:Events for Malmsbury Town Hall
REFRESH-INTERVAL;VALUE=DURATION:PT1H
X-Robots-Tag:noindex
X-PUBLISHED-TTL:PT1H
BEGIN:VTIMEZONE
TZID:Australia/Melbourne
BEGIN:STANDARD
TZOFFSETFROM:+1100
TZOFFSETTO:+1000
TZNAME:AEST
DTSTART:20250405T160000
END:STANDARD
BEGIN:DAYLIGHT
TZOFFSETFROM:+1000
TZOFFSETTO:+1100
TZNAME:AEDT
DTSTART:20251004T160000
END:DAYLIGHT
BEGIN:STANDARD
TZOFFSETFROM:+1100
TZOFFSETTO:+1000
TZNAME:AEST
DTSTART:20260404T160000
END:STANDARD
BEGIN:DAYLIGHT
TZOFFSETFROM:+1000
TZOFFSETTO:+1100
TZNAME:AEDT
DTSTART:20261003T160000
END:DAYLIGHT
BEGIN:STANDARD
TZOFFSETFROM:+1100
TZOFFSETTO:+1000
TZNAME:AEST
DTSTART:20270403T160000
END:STANDARD
BEGIN:DAYLIGHT
TZOFFSETFROM:+1000
TZOFFSETTO:+1100
TZNAME:AEDT
DTSTART:20271002T160000
END:DAYLIGHT
END:VTIMEZONE
BEGIN:VEVENT
DTSTART;VALUE=DATE:20261206
DTEND;VALUE=DATE:20261207
DTSTAMP:20260426T133347
CREATED:20260308T045837Z
LAST-MODIFIED:20260308T045837Z
UID:3558-1796515200-1796601599@malmsburytownhall.com.au
SUMMARY:Flea Market
DESCRIPTION:
URL:https://malmsburytownhall.com.au/event/flea-market-3/
END:VEVENT
BEGIN:VEVENT
DTSTART;TZID=Australia/Melbourne:20261207T183000
DTEND;TZID=Australia/Melbourne:20261207T200000
DTSTAMP:20260426T133347
CREATED:20260106T015811Z
LAST-MODIFIED:20260106T015811Z
UID:3525-1796668200-1796673600@malmsburytownhall.com.au
SUMMARY:MPA Monthly Meeting
DESCRIPTION:
URL:https://malmsburytownhall.com.au/event/mpa-monthly-meeting-10/
END:VEVENT
END:VCALENDAR