BEGIN:VCALENDAR
VERSION:2.0
PRODID:-//Malmsbury Town Hall - ECPv6.15.20//NONSGML v1.0//EN
CALSCALE:GREGORIAN
METHOD:PUBLISH
X-WR-CALNAME:Malmsbury Town Hall
X-ORIGINAL-URL:https://malmsburytownhall.com.au
X-WR-CALDESC:Events for Malmsbury Town Hall
REFRESH-INTERVAL;VALUE=DURATION:PT1H
X-Robots-Tag:noindex
X-PUBLISHED-TTL:PT1H
BEGIN:VTIMEZONE
TZID:Australia/Melbourne
BEGIN:STANDARD
TZOFFSETFROM:+1100
TZOFFSETTO:+1000
TZNAME:AEST
DTSTART:20240406T160000
END:STANDARD
BEGIN:DAYLIGHT
TZOFFSETFROM:+1000
TZOFFSETTO:+1100
TZNAME:AEDT
DTSTART:20241005T160000
END:DAYLIGHT
BEGIN:STANDARD
TZOFFSETFROM:+1100
TZOFFSETTO:+1000
TZNAME:AEST
DTSTART:20250405T160000
END:STANDARD
BEGIN:DAYLIGHT
TZOFFSETFROM:+1000
TZOFFSETTO:+1100
TZNAME:AEDT
DTSTART:20251004T160000
END:DAYLIGHT
BEGIN:STANDARD
TZOFFSETFROM:+1100
TZOFFSETTO:+1000
TZNAME:AEST
DTSTART:20260404T160000
END:STANDARD
BEGIN:DAYLIGHT
TZOFFSETFROM:+1000
TZOFFSETTO:+1100
TZNAME:AEDT
DTSTART:20261003T160000
END:DAYLIGHT
END:VTIMEZONE
BEGIN:VEVENT
DTSTART;TZID=Australia/Melbourne:20250425T120000
DTEND;TZID=Australia/Melbourne:20250425T233000
DTSTAMP:20260425T223847
CREATED:20250220T044541Z
LAST-MODIFIED:20250220T044541Z
UID:3122-1745582400-1745623800@malmsburytownhall.com.au
SUMMARY:Malmsbury Fayre
DESCRIPTION:
URL:https://malmsburytownhall.com.au/event/malmsbury-fayre-7/
END:VEVENT
BEGIN:VEVENT
DTSTART;VALUE=DATE:20250426
DTEND;VALUE=DATE:20250428
DTSTAMP:20260425T223847
CREATED:20250220T044634Z
LAST-MODIFIED:20250220T044634Z
UID:3124-1745625600-1745798399@malmsburytownhall.com.au
SUMMARY:Malmsbury Fayre
DESCRIPTION:
URL:https://malmsburytownhall.com.au/event/malmsbury-fayre-8/
END:VEVENT
BEGIN:VEVENT
DTSTART;TZID=Australia/Melbourne:20250426T190000
DTEND;TZID=Australia/Melbourne:20250426T210000
DTSTAMP:20260425T223847
CREATED:20250408T014033Z
LAST-MODIFIED:20250408T014033Z
UID:3341-1745694000-1745701200@malmsburytownhall.com.au
SUMMARY:Community Choir
DESCRIPTION:
URL:https://malmsburytownhall.com.au/event/community-choir-4/
END:VEVENT
END:VCALENDAR