BEGIN:VCALENDAR
VERSION:2.0
PRODID:-//Malmsbury Town Hall - ECPv6.15.20//NONSGML v1.0//EN
CALSCALE:GREGORIAN
METHOD:PUBLISH
X-WR-CALNAME:Malmsbury Town Hall
X-ORIGINAL-URL:https://malmsburytownhall.com.au
X-WR-CALDESC:Events for Malmsbury Town Hall
REFRESH-INTERVAL;VALUE=DURATION:PT1H
X-Robots-Tag:noindex
X-PUBLISHED-TTL:PT1H
BEGIN:VTIMEZONE
TZID:Australia/Melbourne
BEGIN:STANDARD
TZOFFSETFROM:+1100
TZOFFSETTO:+1000
TZNAME:AEST
DTSTART:20240406T160000
END:STANDARD
BEGIN:DAYLIGHT
TZOFFSETFROM:+1000
TZOFFSETTO:+1100
TZNAME:AEDT
DTSTART:20241005T160000
END:DAYLIGHT
BEGIN:STANDARD
TZOFFSETFROM:+1100
TZOFFSETTO:+1000
TZNAME:AEST
DTSTART:20250405T160000
END:STANDARD
BEGIN:DAYLIGHT
TZOFFSETFROM:+1000
TZOFFSETTO:+1100
TZNAME:AEDT
DTSTART:20251004T160000
END:DAYLIGHT
BEGIN:STANDARD
TZOFFSETFROM:+1100
TZOFFSETTO:+1000
TZNAME:AEST
DTSTART:20260404T160000
END:STANDARD
BEGIN:DAYLIGHT
TZOFFSETFROM:+1000
TZOFFSETTO:+1100
TZNAME:AEDT
DTSTART:20261003T160000
END:DAYLIGHT
END:VTIMEZONE
BEGIN:VEVENT
DTSTART;TZID=Australia/Melbourne:20251102T080000
DTEND;TZID=Australia/Melbourne:20251102T140000
DTSTAMP:20260425T092225
CREATED:20241103T233852Z
LAST-MODIFIED:20241103T233852Z
UID:3054-1762070400-1762092000@malmsburytownhall.com.au
SUMMARY:Flea Market
DESCRIPTION:
URL:https://malmsburytownhall.com.au/event/flea-market-36/
END:VEVENT
BEGIN:VEVENT
DTSTART;TZID=Australia/Melbourne:20251102T190000
DTEND;TZID=Australia/Melbourne:20251102T220000
DTSTAMP:20260425T092225
CREATED:20250914T233741Z
LAST-MODIFIED:20250914T233741Z
UID:3446-1762110000-1762120800@malmsburytownhall.com.au
SUMMARY:Classic Horror Film Screening - SCREAM -
DESCRIPTION:
URL:https://malmsburytownhall.com.au/event/classic-horror-film-screening-scream/
END:VEVENT
BEGIN:VEVENT
DTSTART;TZID=Australia/Melbourne:20251103T183000
DTEND;TZID=Australia/Melbourne:20251103T193000
DTSTAMP:20260425T092225
CREATED:20250502T024423Z
LAST-MODIFIED:20250502T024423Z
UID:3367-1762194600-1762198200@malmsburytownhall.com.au
SUMMARY:MPA Meeting
DESCRIPTION:
URL:https://malmsburytownhall.com.au/event/mpa-meeting-7/
END:VEVENT
BEGIN:VEVENT
DTSTART;VALUE=DATE:20251108
DTEND;VALUE=DATE:20251109
DTSTAMP:20260425T092225
CREATED:20250319T233718Z
LAST-MODIFIED:20250901T044237Z
UID:3137-1762560000-1762646399@malmsburytownhall.com.au
SUMMARY:Indigenous Music Evening
DESCRIPTION:
URL:https://malmsburytownhall.com.au/event/reconciliation-music-evening/
END:VEVENT
BEGIN:VEVENT
DTSTART;TZID=Australia/Melbourne:20251110T180000
DTEND;TZID=Australia/Melbourne:20251110T193000
DTSTAMP:20260425T092225
CREATED:20251004T044033Z
LAST-MODIFIED:20251020T022710Z
UID:3453-1762797600-1762803000@malmsburytownhall.com.au
SUMMARY:Malmsbury Mail AGM
DESCRIPTION:
URL:https://malmsburytownhall.com.au/event/malmsbury-mail-agm/
END:VEVENT
BEGIN:VEVENT
DTSTART;VALUE=DATE:20251115
DTEND;VALUE=DATE:20251117
DTSTAMP:20260425T092225
CREATED:20250323T050234Z
LAST-MODIFIED:20250323T050234Z
UID:3141-1763164800-1763337599@malmsburytownhall.com.au
SUMMARY:Wedding
DESCRIPTION:
URL:https://malmsburytownhall.com.au/event/wedding-22/
END:VEVENT
BEGIN:VEVENT
DTSTART;TZID=Australia/Melbourne:20251120T080000
DTEND;TZID=Australia/Melbourne:20251123T170000
DTSTAMP:20260425T092225
CREATED:20250709T032337Z
LAST-MODIFIED:20250709T032337Z
UID:3414-1763625600-1763917200@malmsburytownhall.com.au
SUMMARY:Fermentation Sessions
DESCRIPTION:
URL:https://malmsburytownhall.com.au/event/fermentation-sessions-4/
END:VEVENT
BEGIN:VEVENT
DTSTART;VALUE=DATE:20251128
DTEND;VALUE=DATE:20251129
DTSTAMP:20260425T092225
CREATED:20251115T023231Z
LAST-MODIFIED:20251115T023243Z
UID:3456-1764288000-1764374399@malmsburytownhall.com.au
SUMMARY:Refurbished Memorial Gates Unveiling
DESCRIPTION:
URL:https://malmsburytownhall.com.au/event/memorial-gates-unveiling/
END:VEVENT
BEGIN:VEVENT
DTSTART;VALUE=DATE:20251129
DTEND;VALUE=DATE:20251130
DTSTAMP:20260425T092225
CREATED:20250909T065818Z
LAST-MODIFIED:20250909T065818Z
UID:3437-1764374400-1764460799@malmsburytownhall.com.au
SUMMARY:Modern Music -Bananagun & The Mods
DESCRIPTION:
URL:https://malmsburytownhall.com.au/event/modern-music-bananagun-the-mods/
END:VEVENT
END:VCALENDAR