BEGIN:VCALENDAR
VERSION:2.0
PRODID:-//Malmsbury Town Hall - ECPv6.15.20//NONSGML v1.0//EN
CALSCALE:GREGORIAN
METHOD:PUBLISH
X-WR-CALNAME:Malmsbury Town Hall
X-ORIGINAL-URL:https://malmsburytownhall.com.au
X-WR-CALDESC:Events for Malmsbury Town Hall
REFRESH-INTERVAL;VALUE=DURATION:PT1H
X-Robots-Tag:noindex
X-PUBLISHED-TTL:PT1H
BEGIN:VTIMEZONE
TZID:Australia/Melbourne
BEGIN:STANDARD
TZOFFSETFROM:+1100
TZOFFSETTO:+1000
TZNAME:AEST
DTSTART:20240406T160000
END:STANDARD
BEGIN:DAYLIGHT
TZOFFSETFROM:+1000
TZOFFSETTO:+1100
TZNAME:AEDT
DTSTART:20241005T160000
END:DAYLIGHT
BEGIN:STANDARD
TZOFFSETFROM:+1100
TZOFFSETTO:+1000
TZNAME:AEST
DTSTART:20250405T160000
END:STANDARD
BEGIN:DAYLIGHT
TZOFFSETFROM:+1000
TZOFFSETTO:+1100
TZNAME:AEDT
DTSTART:20251004T160000
END:DAYLIGHT
BEGIN:STANDARD
TZOFFSETFROM:+1100
TZOFFSETTO:+1000
TZNAME:AEST
DTSTART:20260404T160000
END:STANDARD
BEGIN:DAYLIGHT
TZOFFSETFROM:+1000
TZOFFSETTO:+1100
TZNAME:AEDT
DTSTART:20261003T160000
END:DAYLIGHT
END:VTIMEZONE
BEGIN:VEVENT
DTSTART;TZID=Australia/Melbourne:20251207T080000
DTEND;TZID=Australia/Melbourne:20251207T140000
DTSTAMP:20260425T074022
CREATED:20241103T233633Z
LAST-MODIFIED:20241103T233724Z
UID:3050-1765094400-1765116000@malmsburytownhall.com.au
SUMMARY:Flea Market
DESCRIPTION:
URL:https://malmsburytownhall.com.au/event/flea-market-35/
END:VEVENT
BEGIN:VEVENT
DTSTART;TZID=Australia/Melbourne:20251208T183000
DTEND;TZID=Australia/Melbourne:20251208T193000
DTSTAMP:20260425T074022
CREATED:20250502T024518Z
LAST-MODIFIED:20250502T024518Z
UID:3369-1765218600-1765222200@malmsburytownhall.com.au
SUMMARY:MPA Meeting
DESCRIPTION:
URL:https://malmsburytownhall.com.au/event/mpa-meeting-8/
END:VEVENT
BEGIN:VEVENT
DTSTART;VALUE=DATE:20251213
DTEND;VALUE=DATE:20251214
DTSTAMP:20260425T074022
CREATED:20250909T183958Z
LAST-MODIFIED:20250909T183958Z
UID:3439-1765584000-1765670399@malmsburytownhall.com.au
SUMMARY:Christmas Carols
DESCRIPTION:
URL:https://malmsburytownhall.com.au/event/christmas-carols/
END:VEVENT
BEGIN:VEVENT
DTSTART;TZID=Australia/Melbourne:20251214T130000
DTEND;TZID=Australia/Melbourne:20251214T170000
DTSTAMP:20260425T074022
CREATED:20250729T020807Z
LAST-MODIFIED:20250729T020807Z
UID:3421-1765717200-1765731600@malmsburytownhall.com.au
SUMMARY:Music School Function
DESCRIPTION:
URL:https://malmsburytownhall.com.au/event/music-school-function/
END:VEVENT
BEGIN:VEVENT
DTSTART;TZID=Australia/Melbourne:20251220T150000
DTEND;TZID=Australia/Melbourne:20251220T220000
DTSTAMP:20260425T074022
CREATED:20251123T225729Z
LAST-MODIFIED:20251123T225729Z
UID:3484-1766242800-1766268000@malmsburytownhall.com.au
SUMMARY:Christmas Films Free Event 2 sessions 5 pm Elf & 7 pm Love Actually
DESCRIPTION:
URL:https://malmsburytownhall.com.au/event/christmas-films-free-event-2-sessions-5-pm-elf-7-pm-love-actually/
END:VEVENT
END:VCALENDAR