BEGIN:VCALENDAR
VERSION:2.0
PRODID:-//Malmsbury Town Hall - ECPv6.15.20//NONSGML v1.0//EN
CALSCALE:GREGORIAN
METHOD:PUBLISH
X-WR-CALNAME:Malmsbury Town Hall
X-ORIGINAL-URL:https://malmsburytownhall.com.au
X-WR-CALDESC:Events for Malmsbury Town Hall
REFRESH-INTERVAL;VALUE=DURATION:PT1H
X-Robots-Tag:noindex
X-PUBLISHED-TTL:PT1H
BEGIN:VTIMEZONE
TZID:Australia/Melbourne
BEGIN:STANDARD
TZOFFSETFROM:+1100
TZOFFSETTO:+1000
TZNAME:AEST
DTSTART:20250405T160000
END:STANDARD
BEGIN:DAYLIGHT
TZOFFSETFROM:+1000
TZOFFSETTO:+1100
TZNAME:AEDT
DTSTART:20251004T160000
END:DAYLIGHT
BEGIN:STANDARD
TZOFFSETFROM:+1100
TZOFFSETTO:+1000
TZNAME:AEST
DTSTART:20260404T160000
END:STANDARD
BEGIN:DAYLIGHT
TZOFFSETFROM:+1000
TZOFFSETTO:+1100
TZNAME:AEDT
DTSTART:20261003T160000
END:DAYLIGHT
BEGIN:STANDARD
TZOFFSETFROM:+1100
TZOFFSETTO:+1000
TZNAME:AEST
DTSTART:20270403T160000
END:STANDARD
BEGIN:DAYLIGHT
TZOFFSETFROM:+1000
TZOFFSETTO:+1100
TZNAME:AEDT
DTSTART:20271002T160000
END:DAYLIGHT
END:VTIMEZONE
BEGIN:VEVENT
DTSTART;TZID=Australia/Melbourne:20260803T183000
DTEND;TZID=Australia/Melbourne:20260803T200000
DTSTAMP:20260425T075552
CREATED:20260106T015440Z
LAST-MODIFIED:20260106T015440Z
UID:3517-1785781800-1785787200@malmsburytownhall.com.au
SUMMARY:MPA Monthly Meeting
DESCRIPTION:
URL:https://malmsburytownhall.com.au/event/mpa-monthly-meeting-6/
END:VEVENT
BEGIN:VEVENT
DTSTART;TZID=Australia/Melbourne:20260823T123000
DTEND;TZID=Australia/Melbourne:20260823T163000
DTSTAMP:20260425T075552
CREATED:20260326T000932Z
LAST-MODIFIED:20260326T000932Z
UID:3571-1787488200-1787502600@malmsburytownhall.com.au
SUMMARY:Crafternoons
DESCRIPTION:
URL:https://malmsburytownhall.com.au/event/crafternoons-6/
END:VEVENT
END:VCALENDAR